Workbook

Sheet 23春补（小学）
A1: 附件
A2: 2023年春季连城县农村义务教育阶段学生生活费补助资金分配表
A3: 45051
A4: 序号 | B4: 学校名称 | C4: 资助学生总数（人） | D4: 非寄宿生（家庭经济困难学生） | H4: 寄宿生（家庭经济困难学生） | K4: 本次下拨金额（元） | L4: 省/80％ | M4: 县/20%
D5: 建档立卡等贫困人数（人） | E5: 在校寄午生人数（人） | F5: 标 准 （元/人） | G5: 小 计 （元） | H5: 寄宿人数（人） | I5: 标 准 （元/人） | J5: 小 计（元）
A6: 小学合计 | C6: =SUM(C7:C26) -> 1236 | D6: =SUM(D7:D26) -> 1031 | E6: =SUM(E7:E26) -> 170 | F6: 250 | G6: =SUM(G7:G26) -> 300250 | H6: =SUM(H7:H26) -> 35 | I6: 500 | J6: =SUM(J7:J26) -> 17500 | K6: =G6+J6 -> 317750 | L6: =K6*0.8 -> 254200 | M6: =K6*0.2 -> 63550
A7: 1 | B7: 实验小学 | C7: 115 | D7: 115 | E7: 0 | F7: 250 | G7: =F7*(D7+E7) -> 28750 | H7: 0 | I7: 500 | J7: =I7*H7 -> 0 | K7: =G7+J7 -> 28750 | L7: =K7*0.8 -> 23000 | M7: =K7*0.2 -> 5750
A8: 2 | B8: 第二实小 | C8: 48 | D8: 48 | E8: 0 | F8: 250 | G8: =F8*(D8+E8) -> 12000 | H8: 0 | I8: 500 | J8: =I8*H8 -> 0 | K8: =G8+J8 -> 12000 | L8: =K8*0.8 -> 9600 | M8: =K8*0.2 -> 2400
A9: 3 | B9: 冠豸小学 | C9: 76 | D9: 76 | E9: 0 | F9: 250 | G9: =F9*(D9+E9) -> 19000 | H9: 0 | I9: 500 | J9: =I9*H9 -> 0 | K9: =G9+J9 -> 19000 | L9: =K9*0.8 -> 15200 | M9: =K9*0.2 -> 3800
A10: 4 | B10: 城关二小 | C10: 41 | D10: 41 | E10: 0 | F10: 250 | G10: =F10*(D10+E10) -> 10250 | H10: 0 | I10: 500 | J10: =I10*H10 -> 0 | K10: =G10+J10 -> 10250 | L10: =K10*0.8 -> 8200 | M10: =K10*0.2 -> 2050
A11: 5 | B11: 文亨中小 | C11: 104 | D11: 104 | E11: 0 | F11: 250 | G11: =F11*(D11+E11) -> 26000 | H11: 0 | I11: 500 | J11: =I11*H11 -> 0 | K11: =G11+J11 -> 26000 | L11: =K11*0.8 -> 20800 | M11: =K11*0.2 -> 5200
A12: 6 | B12: 林坊中小 | C12: 51 | D12: 51 | E12: 0 | F12: 250 | G12: =F12*(D12+E12) -> 12750 | H12: 0 | I12: 500 | J12: =I12*H12 -> 0 | K12: =G12+J12 -> 12750 | L12: =K12*0.8 -> 10200 | M12: =K12*0.2 -> 2550
A13: 7 | B13: 隔川中小 | C13: 47 | D13: 47 | E13: 0 | F13: 250 | G13: =F13*(D13+E13) -> 11750 | H13: 0 | I13: 500 | J13: =I13*H13 -> 0 | K13: =G13+J13 -> 11750 | L13: =K13*0.8 -> 9400 | M13: =K13*0.2 -> 2350
A14: 8 | B14: 揭乐中小 | C14: 17 | D14: 17 | E14: 0 | F14: 250 | G14: =F14*(D14+E14) -> 4250 | H14: 0 | I14: 500 | J14: =I14*H14 -> 0 | K14: =G14+J14 -> 4250 | L14: =K14*0.8 -> 3400 | M14: =K14*0.2 -> 850
A15: 9 | B15: 塘前学校 | C15: 10 | D15: 10 | E15: 0 | F15: 250 | G15: =F15*(D15+E15) -> 2500 | H15: 0 | I15: 500 | J15: =I15*H15 -> 0 | K15: =G15+J15 -> 2500 | L15: =K15*0.8 -> 2000 | M15: =K15*0.2 -> 500
A16: 10 | B16: 曲溪中小 | C16: 5 | D16: 5 | E16: 0 | F16: 250 | G16: =F16*(D16+E16) -> 1250 | H16: 0 | I16: 500 | J16: =I16*H16 -> 0 | K16: =G16+J16 -> 1250 | L16: =K16*0.8 -> 1000 | M16: =K16*0.2 -> 250
A17: 11 | B17: 姑田中小 | C17: 55 | D17: 55 | E17: 0 | F17: 250 | G17: =F17*(D17+E17) -> 13750 | H17: 0 | I17: 500 | J17: =I17*H17 -> 0 | K17: =G17+J17 -> 13750 | L17: =K17*0.8 -> 11000 | M17: =K17*0.2 -> 2750
A18: 12 | B18: 赖源中小 | C18: 11 | D18: 0 | E18: 8 | F18: 250 | G18: =F18*(D18+E18) -> 2000 | H18: 3 | I18: 500 | J18: =I18*H18 -> 1500 | K18: =G18+J18 -> 3500 | L18: =K18*0.8 -> 2800 | M18: =K18*0.2 -> 700
... A26: 20 | B26: 庙前中小 | C26: 105 | D26: 105 | E26: 0 | F26: 250 | G26: =F26*(D26+E26) -> 26250 | H26: 0 | I26: 500 | J26: =I26*H26 -> 0 | K26: =G26+J26 -> 26250 | L26: =K26*0.8 -> 21000 | M26: =K26*0.2 -> 5250

Sheet 23春补（初中）
A1: 附件
A2: 2023年春季连城县农村义务教育阶段学生生活费补助资金分配表
A3: 45051
A4: 序号 | B4: 学校名称 | C4: 资助学生总数（人） | D4: 非寄宿生（家庭经济困难学生） | H4: 寄宿生（家庭经济困难学生） | K4: 本次下拨金额（元） | L4: 省/80％ | M4: 县/20%
D5: 建档立卡等贫困人数（人） | E5: 在校寄午生人数（人） | F5: 标 准（元/人） | G5: 小 计 （元） | H5: 寄宿人数（人） | I5: 标 准 （元/人） | J5: 小 计 （元）
A6: 全县总计 | C6: =C7+'23春补（小学）'!C6 -> 1799 | D6: =D7+'23春补（小学）'!D6 -> 1198 | E6: =E7+'23春补（小学）'!E6 -> 412 | F6: 250/312.5 | G6: =G7+'23春补（小学）'!G6 -> 428062.5 | H6: =H7+'23春补（小学）'!H6 -> 189 | I6: 500/625 | J6: =J7+'23春补（小学）'!J6 -> 113750 | K6: =K7+'23春补（小学）'!K6 -> 541812.5 | L6: =L7+'23春补（小学）'!L6 -> 433450 | M6: =M7+'23春补（小学）'!M6 -> 108362.5
A7: 中学合计 | C7: =SUM(C8:C22) -> 563 | D7: =SUM(D8:D22) -> 167 | E7: =SUM(E8:E22) -> 242 | F7: 312.5 | G7: =F7*(D7+E7) -> 127812.5 | H7: =SUM(H8:H22) -> 154 | I7: 625 | J7: =I7*H7 -> 96250 | K7: =G7+J7 -> 224062.5 | L7: =K7*0.8 -> 179250 | M7: =K7*0.2 -> 44812.5
A8: 21 | B8: 连城二中 | C8: 54 | D8: 54 | E8: 0 | F8: 312.5 | G8: =F8*(D8+E8) -> 16875 | H8: 0 | I8: 625 | J8: =I8*H8 -> 0 | K8: =G8+J8 -> 16875 | L8: =K8*0.8 -> 13500 | M8: =K8*0.2 -> 3375
A9: 22 | B9: 连城三中 | C9: 34 | D9: 0 | E9: 20 | F9: 312.5 | G9: =F9*(D9+E9) -> 6250 | H9: 14 | I9: 625 | J9: =I9*H9 -> 8750 | K9: =G9+J9 -> 15000 | L9: =K9*0.8 -> 12000 | M9: =K9*0.2 -> 3000
A10: 23 | B10: 朋口中学 | C10: 74 | D10: 0 | E10: 52 | F10: 312.5 | G10: =F10*(D10+E10) -> 16250 | H10: 22 | I10: 625 | J10: =I10*H10 -> 13750 | K10: =G10+J10 -> 30000 | L10: =K10*0.8 -> 24000 | M10: =K10*0.2 -> 6000
A11: 24 | B11: 冠豸中学 | C11: 78 | D11: 78 | E11: 0 | F11: 312.5 | G11: =F11*(D11+E11) -> 24375 | H11: 0 | I11: 625 | J11: =I11*H11 -> 0 | K11: =G11+J11 -> 24375 | L11: =K11*0.8 -> 19500 | M11: =K11*0.2 -> 4875
A12: 25 | B12: 文新中学 | C12: 40 | D12: 0 | E12: 13 | F12: 312.5 | G12: =F12*(D12+E12) -> 4062.5 | H12: 27 | I12: 625 | J12: =I12*H12 -> 16875 | K12: =G12+J12 -> 20937.5 | L12: =K12*0.8 -> 16750 | M12: =K12*0.2 -> 4187.5
A13: 26 | B13: 林坊中学 | C13: 21 | D13: 0 | E13: 17 | F13: 312.5 | G13: =F13*(D13+E13) -> 5312.5 | H13: 4 | I13: 625 | J13: =I13*H13 -> 2500 | K13: =G13+J13 -> 7812.5 | L13: =K13*0.8 -> 6250 | M13: =K13*0.2 -> 1562.5
A14: 27 | B14: 二中分校 | C14: 38 | D14: 0 | E14: 21 | F14: 312.5 | G14: =F14*(D14+E14) -> 6562.5 | H14: 17 | I14: 625 | J14: =I14*H14 -> 10625 | K14: =G14+J14 -> 17187.5 | L14: =K14*0.8 -> 13750 | M14: =K14*0.2 -> 3437.5
A15: 28 | B15: 姑田中学 | C15: 35 | D15: 35 | E15: 0 | F15: 312.5 | G15: =F15*(D15+E15) -> 10937.5 | H15: 0 | I15: 625 | J15: =I15*H15 -> 0 | K15: =G15+J15 -> 10937.5 | L15: =K15*0.8 -> 8750 | M15: =K15*0.2 -> 2187.5
A16: 29 | B16: 北团中学 | C16: 40 | D16: 0 | E16: 19 | F16: 312.5 | G16: =F16*(D16+E16) -> 5937.5 | H16: 21 | I16: 625 | J16: =I16*H16 -> 13125 | K16: =G16+J16 -> 19062.5 | L16: =K16*0.8 -> 15250 | M16: =K16*0.2 -> 3812.5
A17: 30 | B17: 四堡中学 | C17: 39 | D17: 0 | E17: 31 | F17: 312.5 | G17: =F17*(D17+E17) -> 9687.5 | H17: 8 | I17: 625 | J17: =I17*H17 -> 5000 | K17: =G17+J17 -> 14687.5 | L17: =K17*0.8 -> 11750 | M17: =K17*0.2 -> 2937.5
A18: 31 | B18: 罗坊中学 | C18: 20 | D18: 0 | E18: 8 | F18: 312.5 | G18: =F18*(D18+E18) -> 2500 | H18: 12 | I18: 625 | J18: =I18*H18 -> 7500 | K18: =G18+J18 -> 10000 | L18: =K18*0.8 -> 8000 | M18: =K18*0.2 -> 2000
A19: 32 | B19: 莒溪中学 | C19: 19 | D19: 0 | E19: 9 | F19: 312.5 | G19: =F19*(D19+E19) -> 2812.5 | H19: 10 | I19: 625 | J19: =I19*H19 -> 6250 | K19: =G19+J19 -> 9062.5 | L19: =K19*0.8 -> 7250 | M19: =K19*0.2 -> 1812.5
... A22: 35 | B22: 连南中学 | C22: 24 | D22: 0 | E22: 22 | F22: 312.5 | G22: =F22*(D22+E22) -> 6875 | H22: 2 | I22: 625 | J22: =I22*H22 -> 1250 | K22: =G22+J22 -> 8125 | L22: =K22*0.8 -> 6500 | M22: =K22*0.2 -> 1625
